BEGIN:VCALENDAR
VERSION:2.0
PRODID:-//White City Community Council - ECPv6.15.20//NONSGML v1.0//EN
CALSCALE:GREGORIAN
METHOD:PUBLISH
X-WR-CALNAME:White City Community Council
X-ORIGINAL-URL:https://whitecitycc.org
X-WR-CALDESC:Events for White City Community Council
REFRESH-INTERVAL;VALUE=DURATION:PT1H
X-Robots-Tag:noindex
X-PUBLISHED-TTL:PT1H
BEGIN:VTIMEZONE
TZID:America/Denver
BEGIN:DAYLIGHT
TZOFFSETFROM:-0700
TZOFFSETTO:-0600
TZNAME:MDT
DTSTART:20240310T090000
END:DAYLIGHT
BEGIN:STANDARD
TZOFFSETFROM:-0600
TZOFFSETTO:-0700
TZNAME:MST
DTSTART:20241103T080000
END:STANDARD
BEGIN:DAYLIGHT
TZOFFSETFROM:-0700
TZOFFSETTO:-0600
TZNAME:MDT
DTSTART:20250309T090000
END:DAYLIGHT
BEGIN:STANDARD
TZOFFSETFROM:-0600
TZOFFSETTO:-0700
TZNAME:MST
DTSTART:20251102T080000
END:STANDARD
BEGIN:DAYLIGHT
TZOFFSETFROM:-0700
TZOFFSETTO:-0600
TZNAME:MDT
DTSTART:20260308T090000
END:DAYLIGHT
BEGIN:STANDARD
TZOFFSETFROM:-0600
TZOFFSETTO:-0700
TZNAME:MST
DTSTART:20261101T080000
END:STANDARD
END:VTIMEZONE
BEGIN:VEVENT
DTSTART;TZID=America/Denver:20251003T183000
DTEND;TZID=America/Denver:20251003T200000
DTSTAMP:20260423T175758
CREATED:20251002T014710Z
LAST-MODIFIED:20251002T020131Z
UID:1227-1759516200-1759521600@whitecitycc.org
SUMMARY:Candidate Meet and Greet - 2025 White City Municipal Election
DESCRIPTION:When: Friday\, October 3rd \, 2025\, | 6:30 – 8:30 PM\nWhere: Alta View Elementary – Cafeteria \nMayor: Paulina F. Flint\, Allan Perry\nSeat B: Linda Price\, Douglas Denning\nSeat C: Phillip Cardenaz\, Neil Mahoney \n 
URL:https://whitecitycc.org/event/candidate-meet-and-greet-2025-white-city-municipal-election/
LOCATION:UT
END:VEVENT
END:VCALENDAR