BEGIN:VCALENDAR
VERSION:2.0
PRODID:-//White City Community Council - ECPv6.15.20//NONSGML v1.0//EN
CALSCALE:GREGORIAN
METHOD:PUBLISH
X-WR-CALNAME:White City Community Council
X-ORIGINAL-URL:https://whitecitycc.org
X-WR-CALDESC:Events for White City Community Council
REFRESH-INTERVAL;VALUE=DURATION:PT1H
X-Robots-Tag:noindex
X-PUBLISHED-TTL:PT1H
BEGIN:VTIMEZONE
TZID:America/Denver
BEGIN:DAYLIGHT
TZOFFSETFROM:-0700
TZOFFSETTO:-0600
TZNAME:MDT
DTSTART:20250309T090000
END:DAYLIGHT
BEGIN:STANDARD
TZOFFSETFROM:-0600
TZOFFSETTO:-0700
TZNAME:MST
DTSTART:20251102T080000
END:STANDARD
BEGIN:DAYLIGHT
TZOFFSETFROM:-0700
TZOFFSETTO:-0600
TZNAME:MDT
DTSTART:20260308T090000
END:DAYLIGHT
BEGIN:STANDARD
TZOFFSETFROM:-0600
TZOFFSETTO:-0700
TZNAME:MST
DTSTART:20261101T080000
END:STANDARD
BEGIN:DAYLIGHT
TZOFFSETFROM:-0700
TZOFFSETTO:-0600
TZNAME:MDT
DTSTART:20270314T090000
END:DAYLIGHT
BEGIN:STANDARD
TZOFFSETFROM:-0600
TZOFFSETTO:-0700
TZNAME:MST
DTSTART:20271107T080000
END:STANDARD
END:VTIMEZONE
BEGIN:VEVENT
DTSTART;TZID=America/Denver:20260516T090000
DTEND;TZID=America/Denver:20260516T120000
DTSTAMP:20260423T101042
CREATED:20260305T030946Z
LAST-MODIFIED:20260415T143348Z
UID:1429-1778922000-1778932800@whitecitycc.org
SUMMARY:Spring Plant Swap
DESCRIPTION:Come join us for this free\, community event for plant lovers and garden enthusiasts alike! \nIt is that time of year again when we share our plants with our neighbors to make our community even more beautiful! All plant types are welcome! Indoor plants\, edible plants\, exotic plants\, native species and even seeds are welcome! \nYou do not need to bring plant to get plants! All are welcome! \nTime and place\nThe event date is Saturday\, May 16\, 2026\, from 9:00am – 12:00pm and will be held at the pavilion at Big Bear Park (930 E Onyx Ln). \nTables in the pavilion will have labels for the different types of plant categories and a potting station with free potting soil will be provided for those with bare root plants. We will hold a plant raffle with locally donated prizes for those who bring plants to the swap and wish to participate. Think of this event as one large community plant sharing event. Once your plants hit those tables\, they become free for everyone. No selling of plants is allowed and please be courteous to others! Plant pots and potting soil are supplied on site. \nRaffle rules\n\nReceive 1 ticket for bringing a plant.\nReceive an additional ticket for every 10 plants beyond 1st plant.\nPlace ticket with your name and contact information in tub in front of Raffle items.\nDrawing of tickets will happen at 11:30am – must be present to win.\n\nThe plant swap has a Facebook page called “White City Community Plant Swap.” Join us there! \n\n\n\n\n\n\n\n\nPDF Flyer
URL:https://whitecitycc.org/event/spring-plant-swap/
LOCATION:Big Bear Park\, 930 E Onyx Ln\, White City\, UT\, 84094\, United States
CATEGORIES:White City Hosted Events
ATTACH;FMTTYPE=image/jpeg:https://whitecitycc.org/wp-content/uploads/2026/03/Plant-Swap-Event-1.jpg
END:VEVENT
BEGIN:VEVENT
DTSTART;TZID=America/Denver:20260620T090000
DTEND;TZID=America/Denver:20260620T110000
DTSTAMP:20260423T101042
CREATED:20260305T031349Z
LAST-MODIFIED:20260418T182817Z
UID:1435-1781946000-1781953200@whitecitycc.org
SUMMARY:White City's Annual 5K Run/Walk
DESCRIPTION:Don’t miss White City’s FREE 5K!\n  \nThe annual White City 5K is on Saturday\, June 20th at Big Bear Park (930 E. Onyx Ln\, Sandy). \nStart time: 8:00 a.m. (please arrive by 7:30 a.m. for check-in) \nCost: Absolutely free—so bring your friends and neighbors! \nExtras: Fun prizes at the finish line 🎉 \nRegister here and join us for a great morning run/jog/walk/whatever. \nSee you at the start line!
URL:https://whitecitycc.org/event/5k-fun-run/
LOCATION:Big Bear Park\, 930 E Onyx Ln\, White City\, UT\, 84094\, United States
CATEGORIES:White City Hosted Events
ATTACH;FMTTYPE=image/jpeg:https://whitecitycc.org/wp-content/uploads/2026/04/5K-Featured-Image.jpg
END:VEVENT
END:VCALENDAR