BEGIN:VCALENDAR
VERSION:2.0
PRODID:-//White City Community Council - ECPv6.15.20//NONSGML v1.0//EN
CALSCALE:GREGORIAN
METHOD:PUBLISH
X-ORIGINAL-URL:https://whitecitycc.org
X-WR-CALDESC:Events for White City Community Council
REFRESH-INTERVAL;VALUE=DURATION:PT1H
X-Robots-Tag:noindex
X-PUBLISHED-TTL:PT1H
BEGIN:VTIMEZONE
TZID:America/Denver
BEGIN:DAYLIGHT
TZOFFSETFROM:-0700
TZOFFSETTO:-0600
TZNAME:MDT
DTSTART:20190310T090000
END:DAYLIGHT
BEGIN:STANDARD
TZOFFSETFROM:-0600
TZOFFSETTO:-0700
TZNAME:MST
DTSTART:20191103T080000
END:STANDARD
BEGIN:DAYLIGHT
TZOFFSETFROM:-0700
TZOFFSETTO:-0600
TZNAME:MDT
DTSTART:20200308T090000
END:DAYLIGHT
BEGIN:STANDARD
TZOFFSETFROM:-0600
TZOFFSETTO:-0700
TZNAME:MST
DTSTART:20201101T080000
END:STANDARD
BEGIN:DAYLIGHT
TZOFFSETFROM:-0700
TZOFFSETTO:-0600
TZNAME:MDT
DTSTART:20210314T090000
END:DAYLIGHT
BEGIN:STANDARD
TZOFFSETFROM:-0600
TZOFFSETTO:-0700
TZNAME:MST
DTSTART:20211107T080000
END:STANDARD
BEGIN:DAYLIGHT
TZOFFSETFROM:-0700
TZOFFSETTO:-0600
TZNAME:MDT
DTSTART:20220313T090000
END:DAYLIGHT
BEGIN:STANDARD
TZOFFSETFROM:-0600
TZOFFSETTO:-0700
TZNAME:MST
DTSTART:20221106T080000
END:STANDARD
BEGIN:DAYLIGHT
TZOFFSETFROM:-0700
TZOFFSETTO:-0600
TZNAME:MDT
DTSTART:20230312T090000
END:DAYLIGHT
BEGIN:STANDARD
TZOFFSETFROM:-0600
TZOFFSETTO:-0700
TZNAME:MST
DTSTART:20231105T080000
END:STANDARD
BEGIN:DAYLIGHT
TZOFFSETFROM:-0700
TZOFFSETTO:-0600
TZNAME:MDT
DTSTART:20240310T090000
END:DAYLIGHT
BEGIN:STANDARD
TZOFFSETFROM:-0600
TZOFFSETTO:-0700
TZNAME:MST
DTSTART:20241103T080000
END:STANDARD
BEGIN:DAYLIGHT
TZOFFSETFROM:-0700
TZOFFSETTO:-0600
TZNAME:MDT
DTSTART:20250309T090000
END:DAYLIGHT
BEGIN:STANDARD
TZOFFSETFROM:-0600
TZOFFSETTO:-0700
TZNAME:MST
DTSTART:20251102T080000
END:STANDARD
BEGIN:DAYLIGHT
TZOFFSETFROM:-0700
TZOFFSETTO:-0600
TZNAME:MDT
DTSTART:20260308T090000
END:DAYLIGHT
BEGIN:STANDARD
TZOFFSETFROM:-0600
TZOFFSETTO:-0700
TZNAME:MST
DTSTART:20261101T080000
END:STANDARD
BEGIN:DAYLIGHT
TZOFFSETFROM:-0700
TZOFFSETTO:-0600
TZNAME:MDT
DTSTART:20270314T090000
END:DAYLIGHT
BEGIN:STANDARD
TZOFFSETFROM:-0600
TZOFFSETTO:-0700
TZNAME:MST
DTSTART:20271107T080000
END:STANDARD
END:VTIMEZONE
BEGIN:VTIMEZONE
TZID:UTC
BEGIN:STANDARD
TZOFFSETFROM:+0000
TZOFFSETTO:+0000
TZNAME:UTC
DTSTART:20190101T000000
END:STANDARD
END:VTIMEZONE
BEGIN:VEVENT
DTSTART;TZID=America/Denver:20260312T180000
DTEND;TZID=America/Denver:20260312T203000
DTSTAMP:20260423T130807
CREATED:20260107T183520Z
LAST-MODIFIED:20260305T024546Z
UID:1319-1773338400-1773347400@whitecitycc.org
SUMMARY:7th East & Sego Lily Community Design Workshop #3
DESCRIPTION:7TH EAST & SEGO LILYCOMMUNITY DESIGN WORKSHOPS\nWhite City has secured a landscaping lease for the corner at 700 East and Sego LilyDrive. We invite all residents to participate in designing a welcoming and safelandscape for this key community location. Please\, join us for three hands-onworkshops to help design and select the final landscape concept. \nWORKSHOP SCHEDULE\nAll meetings at Sandy Library Small Meeting Room (Capacity 40)10100 S Petunia Way\, Sandy\, UT6:00 PM - 8:30 PM \n \nMarch 12 - Final Review and Design Selection\n• Review refined concept• Final comments• Vote on final design before UDOT submission \n* Final landscape design submitted to UDOT by April 10
URL:https://whitecitycc.org/event/design-workshop-3/
LOCATION:Sandy Library\, 10100 S Petunia Way\, Sandy\, UT\, 84092
CATEGORIES:White City Hosted Events
ATTACH;FMTTYPE=image/jpeg:https://whitecitycc.org/wp-content/uploads/2026/01/Featured-Image-Template.jpg
END:VEVENT
BEGIN:VEVENT
DTSTART;TZID=America/Denver:20260219T080000
DTEND;TZID=America/Denver:20260221T170000
DTSTAMP:20260423T130807
CREATED:20260207T220326Z
LAST-MODIFIED:20260212T165101Z
UID:1375-1771488000-1771693200@whitecitycc.org
SUMMARY:White City Community Council Food Drive
DESCRIPTION:Welcome to White City Community Council's first-ever food drive! \nDrop-off Locations & Times\nEastmont Middle School (Map) \n\nCollection bins are in the top-floor vestibule; you can drop off between 7:15 a.m. and 3:30 p.m.\n\nAlta View Elementary (Map) \n\nDrop-off times are during school hours: 8:00 a.m. to 3:30 p.m. Bins are in the main office.\n\nLa Petite Academy (Map) \n\nPreferred drop-off times are 10:00 a.m. to 8:00 p.m. Also\, if possible\, please park on the street to leave parking spots for families at La Petite.\n\n  \n			\n			\n				\n				\n				\n				\n			\n				\n				\n				\n				\n				\n				\n				\n				\n				\n				\n				PDF Flyer
URL:https://whitecitycc.org/event/food-drive/
LOCATION:UT
CATEGORIES:White City Hosted Events
ATTACH;FMTTYPE=application/pdf:https://whitecitycc.org/wp-content/uploads/2026/02/Food-Drive-Web-Image.pdf
END:VEVENT
BEGIN:VEVENT
DTSTART;TZID=America/Denver:20260212T180000
DTEND;TZID=America/Denver:20260212T203000
DTSTAMP:20260423T130807
CREATED:20260107T183155Z
LAST-MODIFIED:20260108T222534Z
UID:1309-1770919200-1770928200@whitecitycc.org
SUMMARY:7th East & Sego Lily Community Design Workshop #2
DESCRIPTION:7TH EAST & SEGO LILYCOMMUNITY DESIGN WORKSHOPS\nWhite City has secured a landscaping lease for the corner at 700 East and Sego LilyDrive. We invite all residents to participate in designing a welcoming and safelandscape for this key community location. Please\, join us for three hands-onworkshops to help design and select the final landscape concept. \nWORKSHOP SCHEDULE\nAll meetings at Sandy Library Small Meeting Room (Capacity 40)10100 S Petunia Way\, Sandy\, UT6:00 PM - 8:30 PM \n \nFebruary 12 - Design Options and Community Voting\n• Presentation of layout options• Discussion of features• Vote on preferred direction \nMarch 12 - Final Review and Design Selection\n• Review refined concept• Final comments• Vote on final design before UDOT submission \n* Final landscape design submitted to UDOT by April 10
URL:https://whitecitycc.org/event/design-workshop-2/
LOCATION:Sandy Library\, 10100 S Petunia Way\, Sandy\, UT\, 84092
CATEGORIES:White City Hosted Events
ATTACH;FMTTYPE=image/jpeg:https://whitecitycc.org/wp-content/uploads/2026/01/WCCC-FI-DW.jpg
END:VEVENT
BEGIN:VEVENT
DTSTART;TZID=America/Denver:20260110T160000
DTEND;TZID=America/Denver:20260110T173000
DTSTAMP:20260423T130807
CREATED:20260107T182618Z
LAST-MODIFIED:20260108T222412Z
UID:1297-1768060800-1768066200@whitecitycc.org
SUMMARY:7th East & Sego Lily Community Design Workshop #1
DESCRIPTION:7TH EAST & SEGO LILYCOMMUNITY DESIGN WORKSHOPS\nWhite City has secured a landscaping lease for the corner at 700 East and Sego LilyDrive. We invite all residents to participate in designing a welcoming and safelandscape for this key community location. Please\, join us for three hands-onworkshops to help design and select the final landscape concept. \nWORKSHOP SCHEDULE\nAll meetings at Sandy Library Large Meeting Room10100 S Petunia Way\, Sandy\, UT4:00 PM - 5:30 PM \n \nJanuary 10 - Project Kickoff and Idea Gathering\n• Introduction to the project• Review of site conditions• Community idea session \nFebruary 12 - Design Options and Community Voting\n• Presentation of layout options• Discussion of features• Vote on preferred direction \nMarch 12 - Final Review and Design Selection\n• Review refined concept• Final comments• Vote on final design before UDOT submission \n* Final landscape design submitted to UDOT by April 10
URL:https://whitecitycc.org/event/design-workshop-1/
LOCATION:Sandy Library\, 10100 S Petunia Way\, Sandy\, UT\, 84092
CATEGORIES:White City Hosted Events
ATTACH;FMTTYPE=image/jpeg:https://whitecitycc.org/wp-content/uploads/2026/01/WCCC-FI-DW.jpg
END:VEVENT
BEGIN:VEVENT
DTSTART;TZID=America/Denver:20250927T090000
DTEND;TZID=America/Denver:20250927T120000
DTSTAMP:20260423T130807
CREATED:20250818T165250Z
LAST-MODIFIED:20250820T020430Z
UID:1134-1758963600-1758974400@whitecitycc.org
SUMMARY:Fall Plant Swap
DESCRIPTION:Flyer
URL:https://whitecitycc.org/event/fall-plant-swap/
LOCATION:Big Bear Park\, 930 E Onyx Ln\, White City\, UT\, 84094\, United States
CATEGORIES:White City Hosted Events
ATTACH;FMTTYPE=image/jpeg:https://whitecitycc.org/wp-content/uploads/2025/08/WCCC-Plant-Swap.jpg
END:VEVENT
BEGIN:VEVENT
DTSTART;TZID=America/Denver:20250913T170000
DTEND;TZID=America/Denver:20250913T183000
DTSTAMP:20260423T130807
CREATED:20250818T165108Z
LAST-MODIFIED:20250820T013904Z
UID:1132-1757782800-1757788200@whitecitycc.org
SUMMARY:5th Annual Rumble On Car Parade
DESCRIPTION:Car Parade Flyer\n			\n				\n				\n				\n				\n				\n			\n			\n				\n				\n				\n				\n			\n				\n				\n				\n				\n				\n				\n				\n				\n				\n				\n				Car Parade Route 
URL:https://whitecitycc.org/event/rumble-on-car-parade-2025/
LOCATION:Canyon Rim Ward Parking Lot\, 9824 Flint Dr\, Sandy\, UT\, 84094\, United States
CATEGORIES:White City Hosted Events
ATTACH;FMTTYPE=image/jpeg:https://whitecitycc.org/wp-content/uploads/2025/08/WCCC-Car-Banner.jpg
END:VEVENT
BEGIN:VEVENT
DTSTART;TZID=America/Denver:20250823T140000
DTEND;TZID=America/Denver:20250823T220000
DTSTAMP:20260423T130807
CREATED:20250812T235040Z
LAST-MODIFIED:20250820T015254Z
UID:1115-1755957600-1755986400@whitecitycc.org
SUMMARY:15th Annual Last Blast of Summer
DESCRIPTION:Flyers & Application Forms (PDFs)\n			\n				\n				\n				\n				\n				\n			\n			\n				\n				\n				\n				\n			\n				\n				\n				\n				\n				\n				\n				\n				\n				\n				\n				Car Show FlyerIf you're participating in the car show\, please print the form below and bring it with you to the event. \n			\n				\n				\n				\n				\n				\n			\n			\n				\n				\n				\n				\n				\n				\n				\n				\n				\n				Vendor Application \nVendor applications are closed at this time. 
URL:https://whitecitycc.org/event/last-blast-of-summer-2025/
LOCATION:Big Bear Park\, 930 E Onyx Ln\, White City\, UT\, 84094\, United States
CATEGORIES:White City Hosted Events
ATTACH;FMTTYPE=image/jpeg:https://whitecitycc.org/wp-content/uploads/2025/08/LBoS-Featured-Image.jpg
END:VEVENT
BEGIN:VEVENT
DTSTART;TZID=America/Denver:20240824T140000
DTEND;TZID=America/Denver:20240824T220000
DTSTAMP:20260423T130807
CREATED:20240304T091414Z
LAST-MODIFIED:20240304T091514Z
UID:1005-1724508000-1724536800@whitecitycc.org
SUMMARY:Southeast Township Days 2024
DESCRIPTION:it's a party!
URL:https://whitecitycc.org/event/southeast-township-days-2024/
LOCATION:Big Bear Park\, 930 E Onyx Ln\, White City\, UT\, 84094\, United States
CATEGORIES:White City Hosted Events
END:VEVENT
BEGIN:VEVENT
DTSTART;TZID=America/Denver:20230826T140000
DTEND;TZID=America/Denver:20230826T220000
DTSTAMP:20260423T130807
CREATED:20230415T210041Z
LAST-MODIFIED:20240204T012518Z
UID:923-1693058400-1693087200@whitecitycc.org
SUMMARY:Southeast Township Days 2023
DESCRIPTION:
URL:https://whitecitycc.org/event/southeast-township-days-2023/
LOCATION:Big Bear Park\, 930 E Onyx Ln\, White City\, UT\, 84094\, United States
CATEGORIES:White City Hosted Events
END:VEVENT
BEGIN:VEVENT
DTSTART;TZID=America/Denver:20230617T080000
DTEND;TZID=America/Denver:20230617T100000
DTSTAMP:20260423T130807
CREATED:20230509T020245Z
LAST-MODIFIED:20230617T110325Z
UID:933-1686988800-1686996000@whitecitycc.org
SUMMARY:White City 5K Fun Run & Walk
DESCRIPTION:Staging begins at 7:30am. Please arrive early as the race/walk will start at 8:00am sharp.   \nComplementary water will be available at the start of the race\, a midway point and again at the end of the route. Also\, participation button & a light snack will be waiting for you after you return to the finish line\, while supplies last. \nEarly Registration is now closed.. Please come early to sign up for Free! \n  \n 
URL:https://whitecitycc.org/event/white-city-5k-fun-run-walk-2023/
LOCATION:Big Bear Park\, 930 E Onyx Ln\, White City\, UT\, 84094\, United States
CATEGORIES:White City Hosted Events
END:VEVENT
BEGIN:VEVENT
DTSTART;TZID=America/Denver:20230520T090000
DTEND;TZID=America/Denver:20230520T140000
DTSTAMP:20260423T130807
CREATED:20230401T200033Z
LAST-MODIFIED:20230419T205549Z
UID:911-1684573200-1684591200@whitecitycc.org
SUMMARY:White City Community Spring Plant Swap
DESCRIPTION:Come join us for this FREE event for plant lovers and garden enthusiasts alike! It is that time of year again when we share our plants with our neighbors to make our community even more beautiful! All plant types are welcome! From indoor plants\, edible plants\, exotic plants\, native species and even seeds are welcome! Please do not bring anything that is considered invasive (A list will be posted on Facebook page of invasive species). YOU DO NOT NEED TO BRING PLANTS TO GET PLANTS! \nWill be held at the pavilion at Big Bear Park in White City. Tables will have labels for the different types of plant categories and a potting station with free potting soil will be provided for those with bare root plants. We will also be providing a sanitation station with hand sanitizer\, sanitizing sprays and wipes. \nFIRST FIVE PEOPLE TO ARRIVE WILL RECEIVE A FREE UPCYCLED GLASS PLANTER WITH PLANT!\nRules for the plant swap:\nRequest plant material from anyone with extra plants. If you have extra plants\, be kind and share your plants and knowledge with those looking for new plants.\nHave fun! \nThe plant swap has a Facebook page called “White City Community Plant Swap” and can be found at this address https://www.facebook.com/groups/478179426288883/ \nInstructional videos/web pages on transplanting will be posted on page as well as discussions about plant species that people have and are willing to share. Requests can be made for specific plant species to connect the seeker with a potential owner of the specified plant.\nPlant pots can be supplied upon request. \nMark your calendars for the fall plant swap as well\ntentatively scheduled September 18th at the same time!
URL:https://whitecitycc.org/event/white-city-community-spring-plant-swap/
LOCATION:Big Bear Park\, 930 E Onyx Ln\, White City\, UT\, 84094\, United States
CATEGORIES:White City Hosted Events
END:VEVENT
BEGIN:VEVENT
DTSTART;TZID=UTC:20220910T170000
DTEND;TZID=UTC:20220910T200000
DTSTAMP:20260423T130807
CREATED:20220701T203049Z
LAST-MODIFIED:20220901T231149Z
UID:816-1662829200-1662840000@whitecitycc.org
SUMMARY:2022 White City Car Parade
DESCRIPTION:
URL:https://whitecitycc.org/event/white-city-car-parade-2022/
LOCATION:Glacier Hills Elementary\, 1085 E Galena Dr\, Sandy\, UT\, 84094
CATEGORIES:White City Hosted Events
END:VEVENT
BEGIN:VEVENT
DTSTART;TZID=UTC:20220827T140000
DTEND;TZID=UTC:20220827T220000
DTSTAMP:20260423T130807
CREATED:20220401T190006Z
LAST-MODIFIED:20220607T095317Z
UID:802-1661608800-1661637600@whitecitycc.org
SUMMARY:South East Township Days by White City Community Council
DESCRIPTION:        \nto download Vendor application for printer. CLICK HERE \n2022 SE Township Days Booth Application
URL:https://whitecitycc.org/event/south-east-township-days-by-white-city-community-council/
LOCATION:Big Bear Park\, 930 E Onyx Ln\, White City\, UT\, 84094\, United States
CATEGORIES:White City Hosted Events
END:VEVENT
BEGIN:VEVENT
DTSTART;TZID=America/Denver:20220611T080000
DTEND;TZID=America/Denver:20220611T080000
DTSTAMP:20260423T130807
CREATED:20220228T035458Z
LAST-MODIFIED:20220611T122901Z
UID:769-1654934400-1654934400@whitecitycc.org
SUMMARY:White City 5K Fun Run & Walk
DESCRIPTION:Staging begins at 7:30am. Please arrive early as the race/walk will start at 8:00am sharp.   \nComplementary water will be available at the start of the race\, a midway point and again at the end of the route. Also\, participation button & a light snack will be waiting for you after you return to the finish line\, while supplies last. \n  \n  \n 
URL:https://whitecitycc.org/event/white-city-5k-fun-run-walk-2/
LOCATION:Big Bear Park\, 930 E Onyx Ln\, White City\, UT\, 84094\, United States
CATEGORIES:White City Hosted Events
ATTACH;FMTTYPE=image/png:https://whitecitycc.org/wp-content/uploads/2022/02/2022-WCCC-Fun-Run-e1651724961998.png
END:VEVENT
BEGIN:VEVENT
DTSTART;TZID=America/Denver:20210918T090000
DTEND;TZID=America/Denver:20210918T130000
DTSTAMP:20260423T130807
CREATED:20210809T235203Z
LAST-MODIFIED:20210809T235203Z
UID:707-1631955600-1631970000@whitecitycc.org
SUMMARY:White City Community Fall Plant Swap
DESCRIPTION:Come join us for this FREE event for plant lovers and garden enthusiasts alike! It is that time of year again when we share our plants with our neighbors to make our community even more beautiful! All plant types are welcome! From indoor plants\, edible plants\, exotic plants\, native species and even seeds are welcome! Please do not bring anything that is considered invasive (A list will be posted on Facebook page of invasive species). YOU DO NOT NEED TO BRING PLANTS TO GET PLANTS! \nWill be held at the pavilion at Big Bear Park in White City. Tables will have labels for the different types of plant categories and a potting station with free potting soil will be provided for those with bare root plants. We will also be providing a sanitation station with hand sanitizer\, sanitizing sprays and wipes. \nFIRST FIVE PEOPLE TO ARRIVE WILL RECEIVE A FREE UPCYCLED GLASS PLANTER WITH PLANT!\nRules for the plant swap:\nRequest plant material from anyone with extra plants. If you have extra plants\, be kind and share your plants and knowledge with those looking for new plants.\nHave fun! \nThe plant swap has a Facebook page called “White City Community Plant Swap” and can be found at this address https://www.facebook.com/groups/478179426288883/.\nInstructional videos/web pages on transplanting will be posted on page as well as discussions about plant species that people have and are willing to share. Requests can be made for specific plant species to connect the seeker with a potential owner of the specified plant.\nPlant pots can be supplied upon request. \nMark your calendars for the fall plant swap as well\ntentatively scheduled September 18th at the same time!
URL:https://whitecitycc.org/event/wcc-fall-plant-swap/
LOCATION:Big Bear Park\, 930 E Onyx Ln\, White City\, UT\, 84094\, United States
CATEGORIES:White City Hosted Events
ATTACH;FMTTYPE=image/jpeg:https://whitecitycc.org/wp-content/uploads/2021/05/plant.jpg
END:VEVENT
BEGIN:VEVENT
DTSTART;TZID=UTC:20210911T170000
DTEND;TZID=UTC:20210911T200000
DTSTAMP:20260423T130807
CREATED:20210822T200525Z
LAST-MODIFIED:20210831T201344Z
UID:743-1631379600-1631390400@whitecitycc.org
SUMMARY:White City Car Parade
DESCRIPTION:
URL:https://whitecitycc.org/event/white-city-car-parade/
LOCATION:LDS Ward House\, 9824 Flint Dr\, White City\, UT\, 84094\, United States
CATEGORIES:White City Hosted Events
END:VEVENT
BEGIN:VEVENT
DTSTART;TZID=America/Denver:20210605T080000
DTEND;TZID=America/Denver:20210605T100000
DTSTAMP:20260423T130807
CREATED:20210507T025936Z
LAST-MODIFIED:20210605T110639Z
UID:650-1622880000-1622887200@whitecitycc.org
SUMMARY:White City 5K Fun Run & Walk
DESCRIPTION:Staging begins at 7:30am. Please arrive early as the race/walk will start at 8:00am sharp. The first 100 Participants will receive a small button as seen above.  \nComplementary water will be available at the start of the race\, a midway point and again at the end of the route. Also\, a light snack will be waiting for you after you return to the finish line\, while supplies last. \nPre-registration is now closed. Don’t worry\, you can still participate.. just come to the park around 7:30am and get in line in the “Sign Up” line\, we hope to see you there. \n \n 
URL:https://whitecitycc.org/event/white-city-5k-fun-run-walk/
LOCATION:Big Bear Park\, 930 E Onyx Ln\, White City\, UT\, 84094\, United States
CATEGORIES:White City Hosted Events
ATTACH;FMTTYPE=image/jpeg:https://whitecitycc.org/wp-content/uploads/2021/05/button-e1622223129972.jpg
END:VEVENT
BEGIN:VEVENT
DTSTART;TZID=America/Denver:20210515T100000
DTEND;TZID=America/Denver:20210515T150000
DTSTAMP:20260423T130807
CREATED:20210507T030628Z
LAST-MODIFIED:20210529T031704Z
UID:654-1621072800-1621090800@whitecitycc.org
SUMMARY:White City Community Plant Swap
DESCRIPTION:Come join us for this FREE event for plant lovers and garden enthusiasts alike! It is that time of year again when we share our plants with our neighbors to make our community even more beautiful! All plant types are welcome! From indoor plants\, edible plants\, exotic plants\, native species and even seeds are welcome! Please do not bring anything that is considered invasive (A list will be posted on Facebook page of invasive species). YOU DO NOT NEED TO BRING PLANTS TO GET PLANTS! \nWill be held at the pavilion at Big Bear Park in White City. Tables will have labels for the different types of plant categories and a potting station with free potting soil will be provided for those with bare root plants. We will also be providing a sanitation station with hand sanitizer\, sanitizing sprays and wipes. \nFIRST FIVE PEOPLE TO ARRIVE WILL RECEIVE A FREE UPCYCLED GLASS PLANTER WITH PLANT!\nRules for the plant swap:\nRequest plant material from anyone with extra plants. If you have extra plants\, be kind and share your plants and knowledge with those looking for new plants.\nHave fun! \nThe plant swap has a Facebook page called “White City Community Plant Swap” and can be found at this address https://www.facebook.com/groups/478179426288883/.\nInstructional videos/web pages on transplanting will be posted on page as well as discussions about plant species that people have and are willing to share. Requests can be made for specific plant species to connect the seeker with a potential owner of the specified plant.\nPlant pots can be supplied upon request. \nMark your calendars for the fall plant swap as well\ntentatively scheduled September 18th at the same time!
URL:https://whitecitycc.org/event/white-city-community-plant-swap-3/
LOCATION:Big Bear Park\, 930 E Onyx Ln\, White City\, UT\, 84094\, United States
CATEGORIES:White City Hosted Events
ATTACH;FMTTYPE=image/jpeg:https://whitecitycc.org/wp-content/uploads/2021/05/plant.jpg
END:VEVENT
BEGIN:VEVENT
DTSTART;TZID=UTC:20200926T090000
DTEND;TZID=UTC:20200926T120000
DTSTAMP:20260423T130807
CREATED:20200916T081413Z
LAST-MODIFIED:20200916T082054Z
UID:635-1601110800-1601121600@whitecitycc.org
SUMMARY:White City Community Plant Swap
DESCRIPTION:This is an event for garden enthusiasts who live in the White City area and beyond. Let’s get together to share our plants with our neighbors and make White City even more beautiful! All plant types are welcome\, from indoor plants\, edible plants\, exotic plants and native species. Please do not bring anything that is considered invasive (A list will be posted on Facebook page of invasive species). \nThe event date is September 26th\, 2019 from 9:00am – 12:00pm and will be held at Big Bear Park in White City. The first hour of the sale will be dedicated to those who have plants to trade and the following two hours will be for open trading. \nRules for the plant swap for the first hour: \n\nReceive one ticket for each healthy potted plant or rooted cutting that you bring to the swap. (Please clearly label each plant. It is optional to provide care instructions.)\nTrade tickets in for plants! (Always ask before taking\, some plants may already have homes.)\nEnjoy your new friends (Both the planted ones and the people)!\n\nRules for the plant swap for the second two hours: \n\nRequest plant material from anyone with extra plants. If you have extra plants\, be kind and share your plants and knowledge with those looking for new plants.\nHave fun!\n\nThe plant swap has a Facebook page called “White City Community Plant Swap” and can be found at this address https://www.facebook.com/groups/478179426288883 \n\nInstructional videos/web pages on transplanting will be posted on page as\nwell as discussions about plant species\nthat people have and are willing to share.\nRequests can be made for specific plant\nspecies in order to connect the seeker\nwith a potential owner of the specified\nplant.\nPlant pots can be supplied upon request.
URL:https://whitecitycc.org/event/white-city-community-plant-swap-2/
LOCATION:Big Bear Park\, 930 E Onyx Ln\, White City\, UT\, 84094\, United States
CATEGORIES:White City Hosted Events
END:VEVENT
BEGIN:VEVENT
DTSTART;TZID=UTC:20200829T180000
DTEND;TZID=UTC:20200829T200000
DTSTAMP:20260423T130807
CREATED:20200816T022851Z
LAST-MODIFIED:20200829T023852Z
UID:629-1598724000-1598731200@whitecitycc.org
SUMMARY:White City Rolling Car Show
DESCRIPTION:
URL:https://whitecitycc.org/event/white-city-rolling-car-show/
LOCATION:UT
CATEGORIES:White City Hosted Events
END:VEVENT
BEGIN:VEVENT
DTSTART;TZID=America/Denver:20200829T140000
DTEND;TZID=America/Denver:20200829T210000
DTSTAMP:20260423T130807
CREATED:20200304T010034Z
LAST-MODIFIED:20200729T095827Z
UID:553-1598709600-1598734800@whitecitycc.org
SUMMARY:Cancelled - South East Township Days
DESCRIPTION:This event has been cancelled this year\, we look forward to planning for next year.  \n 
URL:https://whitecitycc.org/event/south-east-township-days/
LOCATION:Big Bear Park\, 930 E Onyx Ln\, White City\, UT\, 84094\, United States
CATEGORIES:White City Hosted Events
END:VEVENT
BEGIN:VEVENT
DTSTART;TZID=America/Denver:20200729T130000
DTEND;TZID=America/Denver:20200729T140000
DTSTAMP:20260423T130807
CREATED:20200728T000034Z
LAST-MODIFIED:20200729T110805Z
UID:611-1596027600-1596031200@whitecitycc.org
SUMMARY:White City Canal Trail and Bridge Ribbon Cutting
DESCRIPTION:The ribbon cutting at the bridge for the Canal Bridge over Dimple Dell is this coming Wednesday the 29th of July at 1:00 PM. \nWhite City Canal Trail and Bridge Ribbon Cutting\nLocation: 10120 South 800 East\nDate/Time: Wednesday July 29\, 2020 at 1:00 PM \n\n \n 
URL:https://whitecitycc.org/event/white-city-canal-trail-and-bridge-ribbon-cutting/
LOCATION:Canal Bridge – South\, 10120 South 800 East\, White City\, UT\, 84094\, United States
CATEGORIES:White City Hosted Events
END:VEVENT
BEGIN:VEVENT
DTSTART;TZID=UTC:20200502T080000
DTEND;TZID=UTC:20200502T120000
DTSTAMP:20260423T130807
CREATED:20200213T114221Z
LAST-MODIFIED:20200213T114221Z
UID:454-1588406400-1588420800@whitecitycc.org
SUMMARY:White City Community Plant Swap
DESCRIPTION:More details to come
URL:https://whitecitycc.org/event/white-city-community-plant-swap/
LOCATION:Big Bear Park\, 930 E Onyx Ln\, White City\, UT\, 84094\, United States
CATEGORIES:White City Hosted Events
END:VEVENT
END:VCALENDAR