BEGIN:VCALENDAR
VERSION:2.0
PRODID:-//White City Community Council - ECPv6.15.20//NONSGML v1.0//EN
CALSCALE:GREGORIAN
METHOD:PUBLISH
X-WR-CALNAME:White City Community Council
X-ORIGINAL-URL:https://whitecitycc.org
X-WR-CALDESC:Events for White City Community Council
REFRESH-INTERVAL;VALUE=DURATION:PT1H
X-Robots-Tag:noindex
X-PUBLISHED-TTL:PT1H
BEGIN:VTIMEZONE
TZID:America/Denver
BEGIN:DAYLIGHT
TZOFFSETFROM:-0700
TZOFFSETTO:-0600
TZNAME:MDT
DTSTART:20250309T090000
END:DAYLIGHT
BEGIN:STANDARD
TZOFFSETFROM:-0600
TZOFFSETTO:-0700
TZNAME:MST
DTSTART:20251102T080000
END:STANDARD
BEGIN:DAYLIGHT
TZOFFSETFROM:-0700
TZOFFSETTO:-0600
TZNAME:MDT
DTSTART:20260308T090000
END:DAYLIGHT
BEGIN:STANDARD
TZOFFSETFROM:-0600
TZOFFSETTO:-0700
TZNAME:MST
DTSTART:20261101T080000
END:STANDARD
BEGIN:DAYLIGHT
TZOFFSETFROM:-0700
TZOFFSETTO:-0600
TZNAME:MDT
DTSTART:20270314T090000
END:DAYLIGHT
BEGIN:STANDARD
TZOFFSETFROM:-0600
TZOFFSETTO:-0700
TZNAME:MST
DTSTART:20271107T080000
END:STANDARD
END:VTIMEZONE
BEGIN:VEVENT
DTSTART;TZID=America/Denver:20260506T190000
DTEND;TZID=America/Denver:20260506T203000
DTSTAMP:20260423T101143
CREATED:20260108T223154Z
LAST-MODIFIED:20260331T022300Z
UID:1339-1778094000-1778099400@whitecitycc.org
SUMMARY:WCCC Monthly Meeting: May 2026
DESCRIPTION:Meeting at the Canyons Administration Building East (9361 S 300 E\, Sandy UT) in the White Pines room (see map below). \n\n\n\nMeeting Agenda 📄\nMeeting Minutes 📁\n\n\n\n 
URL:https://whitecitycc.org/event/monthly-may-2026/
LOCATION:Canyons Administration Building East\, 9361 S 300 E\, Sandy\, UT\, 84094\, United States
CATEGORIES:WCCC Monthly Meeting
ATTACH;FMTTYPE=image/jpeg:https://whitecitycc.org/wp-content/uploads/2026/01/Monthly-Meeting-Photo.jpg
END:VEVENT
BEGIN:VEVENT
DTSTART;TZID=America/Denver:20260603T190000
DTEND;TZID=America/Denver:20260603T203000
DTSTAMP:20260423T101143
CREATED:20260108T223347Z
LAST-MODIFIED:20260415T143655Z
UID:1341-1780513200-1780518600@whitecitycc.org
SUMMARY:WCCC Monthly Meeting: June 2026
DESCRIPTION:Meeting at the Canyons Administration Building East (9361 S 300 E\, Sandy UT) in the Twin Peaks/Superior room (see map below). \n\n\n\nMeeting Agenda 📄\nMeeting Minutes 📁\n\n\n\n 
URL:https://whitecitycc.org/event/monthly-jun-2026/
LOCATION:Canyons Administration Building East\, 9361 S 300 E\, Sandy\, UT\, 84094\, United States
CATEGORIES:WCCC Monthly Meeting
ATTACH;FMTTYPE=image/jpeg:https://whitecitycc.org/wp-content/uploads/2026/01/Monthly-Meeting-Photo.jpg
END:VEVENT
BEGIN:VEVENT
DTSTART;TZID=America/Denver:20260701T190000
DTEND;TZID=America/Denver:20260701T203000
DTSTAMP:20260423T101143
CREATED:20260108T223536Z
LAST-MODIFIED:20260415T143727Z
UID:1345-1782932400-1782937800@whitecitycc.org
SUMMARY:WCCC Monthly Meeting: July 2026
DESCRIPTION:Meeting at the Canyons Administration Building East (9361 S 300 E\, Sandy UT) in the Twin Peaks/Superior room (see map below). \n\n\n\nMeeting Agenda 📄\nMeeting Minutes 📁\n\n\n\n 
URL:https://whitecitycc.org/event/monthly-jul-2026/
LOCATION:Canyons Administration Building East\, 9361 S 300 E\, Sandy\, UT\, 84094\, United States
CATEGORIES:WCCC Monthly Meeting
ATTACH;FMTTYPE=image/jpeg:https://whitecitycc.org/wp-content/uploads/2026/01/Monthly-Meeting-Photo.jpg
END:VEVENT
BEGIN:VEVENT
DTSTART;TZID=America/Denver:20260805T190000
DTEND;TZID=America/Denver:20260805T203000
DTSTAMP:20260423T101143
CREATED:20260108T223444Z
LAST-MODIFIED:20260415T143748Z
UID:1343-1785956400-1785961800@whitecitycc.org
SUMMARY:WCCC Monthly Meeting: August 2026
DESCRIPTION:Meeting at the Canyons Administration Building East (9361 S 300 E\, Sandy UT) in the Twin Peaks/Superior room (see map below). \n\n\n\nMeeting Agenda 📄\nMeeting Minutes 📁\n\n\n\n 
URL:https://whitecitycc.org/event/monthly-aug-2026/
LOCATION:Canyons Administration Building East\, 9361 S 300 E\, Sandy\, UT\, 84094\, United States
CATEGORIES:WCCC Monthly Meeting
ATTACH;FMTTYPE=image/jpeg:https://whitecitycc.org/wp-content/uploads/2026/01/Monthly-Meeting-Photo.jpg
END:VEVENT
BEGIN:VEVENT
DTSTART;TZID=America/Denver:20260902T190000
DTEND;TZID=America/Denver:20260902T203000
DTSTAMP:20260423T101143
CREATED:20260108T223642Z
LAST-MODIFIED:20260415T143808Z
UID:1347-1788375600-1788381000@whitecitycc.org
SUMMARY:WCCC Monthly Meeting: September 2026
DESCRIPTION:Meeting at the Canyons Administration Building East (9361 S 300 E\, Sandy UT) in the White Pine room (see map below). \n\n\n\nMeeting Agenda 📄\nMeeting Minutes 📁\n\n\n\n 
URL:https://whitecitycc.org/event/monthly-sep-2026/
LOCATION:Canyons Administration Building East\, 9361 S 300 E\, Sandy\, UT\, 84094\, United States
CATEGORIES:WCCC Monthly Meeting
ATTACH;FMTTYPE=image/jpeg:https://whitecitycc.org/wp-content/uploads/2026/01/Monthly-Meeting-Photo.jpg
END:VEVENT
BEGIN:VEVENT
DTSTART;TZID=America/Denver:20261007T190000
DTEND;TZID=America/Denver:20261007T203000
DTSTAMP:20260423T101143
CREATED:20260108T223916Z
LAST-MODIFIED:20260415T143844Z
UID:1350-1791399600-1791405000@whitecitycc.org
SUMMARY:WCCC Monthly Meeting: October 2026
DESCRIPTION:Meeting at the Canyons Administration Building East (9361 S 300 E\, Sandy UT) in the White Pine room (see map below). \n\n\n\nMeeting Agenda 📄\nMeeting Minutes 📁\n\n\n\n 
URL:https://whitecitycc.org/event/monthly-oct-2026/
LOCATION:Canyons Administration Building East\, 9361 S 300 E\, Sandy\, UT\, 84094\, United States
CATEGORIES:WCCC Monthly Meeting
ATTACH;FMTTYPE=image/jpeg:https://whitecitycc.org/wp-content/uploads/2026/01/Monthly-Meeting-Photo.jpg
END:VEVENT
BEGIN:VEVENT
DTSTART;TZID=America/Denver:20261104T190000
DTEND;TZID=America/Denver:20261104T203000
DTSTAMP:20260423T101143
CREATED:20260108T223955Z
LAST-MODIFIED:20260415T143901Z
UID:1352-1793818800-1793824200@whitecitycc.org
SUMMARY:WCCC Monthly Meeting: November 2026
DESCRIPTION:Meeting at the Canyons Administration Building East (9361 S 300 E\, Sandy UT) in the White Pine room (see map below). \n\n\n\nMeeting Agenda 📄\nMeeting Minutes 📁\n\n\n\n 
URL:https://whitecitycc.org/event/monthly-nov-2026/
LOCATION:Canyons Administration Building East\, 9361 S 300 E\, Sandy\, UT\, 84094\, United States
CATEGORIES:WCCC Monthly Meeting
ATTACH;FMTTYPE=image/jpeg:https://whitecitycc.org/wp-content/uploads/2026/01/Monthly-Meeting-Photo.jpg
END:VEVENT
BEGIN:VEVENT
DTSTART;TZID=America/Denver:20261202T190000
DTEND;TZID=America/Denver:20261202T203000
DTSTAMP:20260423T101143
CREATED:20260108T224055Z
LAST-MODIFIED:20260415T144050Z
UID:1354-1796238000-1796243400@whitecitycc.org
SUMMARY:WCCC Monthly Meeting: December 2026
DESCRIPTION:Meeting at the Canyons Administration Building East (9361 S 300 E\, Sandy UT) in the White Pine room (see map below). \n\n\n\nMeeting Agenda 📄\nMeeting Minutes 📁\n\n\n\n 
URL:https://whitecitycc.org/event/monthly-dec-2026/
LOCATION:Canyons Administration Building East\, 9361 S 300 E\, Sandy\, UT\, 84094\, United States
CATEGORIES:WCCC Monthly Meeting
ATTACH;FMTTYPE=image/jpeg:https://whitecitycc.org/wp-content/uploads/2026/01/Monthly-Meeting-Photo.jpg
END:VEVENT
END:VCALENDAR