BEGIN:VCALENDAR
VERSION:2.0
PRODID:-//White City Community Council - ECPv6.15.20//NONSGML v1.0//EN
CALSCALE:GREGORIAN
METHOD:PUBLISH
X-ORIGINAL-URL:https://whitecitycc.org
X-WR-CALDESC:Events for White City Community Council
REFRESH-INTERVAL;VALUE=DURATION:PT1H
X-Robots-Tag:noindex
X-PUBLISHED-TTL:PT1H
BEGIN:VTIMEZONE
TZID:America/Denver
BEGIN:DAYLIGHT
TZOFFSETFROM:-0700
TZOFFSETTO:-0600
TZNAME:MDT
DTSTART:20250309T090000
END:DAYLIGHT
BEGIN:STANDARD
TZOFFSETFROM:-0600
TZOFFSETTO:-0700
TZNAME:MST
DTSTART:20251102T080000
END:STANDARD
BEGIN:DAYLIGHT
TZOFFSETFROM:-0700
TZOFFSETTO:-0600
TZNAME:MDT
DTSTART:20260308T090000
END:DAYLIGHT
BEGIN:STANDARD
TZOFFSETFROM:-0600
TZOFFSETTO:-0700
TZNAME:MST
DTSTART:20261101T080000
END:STANDARD
BEGIN:DAYLIGHT
TZOFFSETFROM:-0700
TZOFFSETTO:-0600
TZNAME:MDT
DTSTART:20270314T090000
END:DAYLIGHT
BEGIN:STANDARD
TZOFFSETFROM:-0600
TZOFFSETTO:-0700
TZNAME:MST
DTSTART:20271107T080000
END:STANDARD
END:VTIMEZONE
BEGIN:VEVENT
DTSTART;TZID=America/Denver:20260304T190000
DTEND;TZID=America/Denver:20260304T203000
DTSTAMP:20260423T145421
CREATED:20260108T222903Z
LAST-MODIFIED:20260108T222903Z
UID:1335-1772650800-1772656200@whitecitycc.org
SUMMARY:WCCC Monthly Meeting: March 2026
DESCRIPTION:Meeting at the Canyons Administration Building East (9361 S 300 E\, Sandy UT) in the White Pines room (see map below). \n\n\n\nMeeting Agenda 📄\nMeeting Minutes 📁\n\n\n\n 
URL:https://whitecitycc.org/event/monthly-mar-2026/
LOCATION:Canyons Administration Building East\, 9361 S 300 E\, Sandy\, UT\, 84094\, United States
CATEGORIES:WCCC Monthly Meeting
ATTACH;FMTTYPE=image/jpeg:https://whitecitycc.org/wp-content/uploads/2026/01/WCCC-Monthly-Featured-Image-.jpg
END:VEVENT
END:VCALENDAR