BEGIN:VCALENDAR
VERSION:2.0
PRODID:-//White City Community Council - ECPv6.15.20//NONSGML v1.0//EN
CALSCALE:GREGORIAN
METHOD:PUBLISH
X-WR-CALNAME:White City Community Council
X-ORIGINAL-URL:https://whitecitycc.org
X-WR-CALDESC:Events for White City Community Council
REFRESH-INTERVAL;VALUE=DURATION:PT1H
X-Robots-Tag:noindex
X-PUBLISHED-TTL:PT1H
BEGIN:VTIMEZONE
TZID:America/Denver
BEGIN:DAYLIGHT
TZOFFSETFROM:-0700
TZOFFSETTO:-0600
TZNAME:MDT
DTSTART:20230312T090000
END:DAYLIGHT
BEGIN:STANDARD
TZOFFSETFROM:-0600
TZOFFSETTO:-0700
TZNAME:MST
DTSTART:20231105T080000
END:STANDARD
BEGIN:DAYLIGHT
TZOFFSETFROM:-0700
TZOFFSETTO:-0600
TZNAME:MDT
DTSTART:20240310T090000
END:DAYLIGHT
BEGIN:STANDARD
TZOFFSETFROM:-0600
TZOFFSETTO:-0700
TZNAME:MST
DTSTART:20241103T080000
END:STANDARD
BEGIN:DAYLIGHT
TZOFFSETFROM:-0700
TZOFFSETTO:-0600
TZNAME:MDT
DTSTART:20250309T090000
END:DAYLIGHT
BEGIN:STANDARD
TZOFFSETFROM:-0600
TZOFFSETTO:-0700
TZNAME:MST
DTSTART:20251102T080000
END:STANDARD
END:VTIMEZONE
BEGIN:VEVENT
DTSTART;TZID=America/Denver:20240103T190000
DTEND;TZID=America/Denver:20240103T203000
DTSTAMP:20260425T043003
CREATED:20240101T130050Z
LAST-MODIFIED:20240204T013346Z
UID:984-1704308400-1704313800@whitecitycc.org
SUMMARY:WCCC January 03\, 2024 Meeting
DESCRIPTION:White City Community Council Monthly Meeting \nCouncil meetings are generally held on the first Wednesday of each month at Eastmont Middle School
URL:https://whitecitycc.org/event/wccc-jan-03-2024-meeting/
LOCATION:Eastmont Middle School\, 10100 S. 1300 E. Room # 105\, White City\, UT\, 84094\, United States
CATEGORIES:WCCC Monthly Meeting
ATTACH;FMTTYPE=image/png:https://whitecitycc.org/wp-content/uploads/2019/12/minutes.png
END:VEVENT
END:VCALENDAR