BEGIN:VCALENDAR
VERSION:2.0
PRODID:-//White City Community Council - ECPv6.15.20//NONSGML v1.0//EN
CALSCALE:GREGORIAN
METHOD:PUBLISH
X-WR-CALNAME:White City Community Council
X-ORIGINAL-URL:https://whitecitycc.org
X-WR-CALDESC:Events for White City Community Council
REFRESH-INTERVAL;VALUE=DURATION:PT1H
X-Robots-Tag:noindex
X-PUBLISHED-TTL:PT1H
BEGIN:VTIMEZONE
TZID:UTC
BEGIN:STANDARD
TZOFFSETFROM:+0000
TZOFFSETTO:+0000
TZNAME:UTC
DTSTART:20190101T000000
END:STANDARD
END:VTIMEZONE
BEGIN:VEVENT
DTSTART;TZID=UTC:20201112T183000
DTEND;TZID=UTC:20201112T203000
DTSTAMP:20260423T165726
CREATED:20201015T130008Z
LAST-MODIFIED:20201018T090547Z
UID:646-1605205800-1605213000@whitecitycc.org
SUMMARY:ACCT Meeting Agenda
DESCRIPTION:Voting Information:\n1.  If voting by mail\, ballots must be postmarked by Monday\, Nov 2.\n2.  Or\, locations of Drop Boxes\n3.  Voter Information Pamphlet\nAmendment D (page 49) is the ‘water bill’ change that we vote FOR\nHere’s another document on Amendment D \n\n\nAs part of its Mountain Transportation System (MTS) initiative\, the Central Wasatch Commission hosted an expert panel on Friday\, September 18th\, which initiated the second public comment period the Central Wasatch Commission has opened as part of the Mountain Transportation System initiative.\nThe Central Wasatch Commission has opened a 30-day public comment period ending on October 18th\, 2020.  Make Comments on the DRAFT.\nThe Commission also invites you to provide interactive feedback by designing your own mountain transportation system. To participate in the Design Your Mountain Transportation System survey\, click here. \n\n\nEnvision Utah – The results are in! Over 8\,000 responses to the Jordan River Parkway survey.  A great response\, ultimately hearing from 8\,000 people!   Click here for detailed findings from the survey. \n\n\nAs a reminder\, I have included a FACT SHEET that includes additional details about the water issue and why it is important that the constitution be changed.  PLEASE SHARE THIS FACT SHEET TO ALL FOLKS YOU KNOW AROUND THE STATE.  Below are some of the highlights: \nIn the 2019 Legislative Session\, Rep. Kim Coleman passed a bill\, HB 31\, that addressed a long-term problem; large cities providing water to customers outside their boundaries using short term terminable surplus water contracts.\n\nIn Salt Lake County\, more than 100\,000 people get their water from Salt Lake City\, but live outside Salt Lake City’s boundary.\nThese people had/have no permanent source of water; the city used what are called “Surplus Water Contracts” to serve these areas \nSurplus water is just that; surplus to current needs.  If the City decides it needs the  water for other uses\, the City could shut off the supply whenever they wanted\n\nThe new law requires cities to create a “Designated Water Service Area” and agree to provide a permanent water source for residents within that area. \n\nWater users who live outside the City\, but within the Designated Water Service Area\,  are called “Retail Water Customers”\nThe city must supply water to the customers within its Designated Water Service Area and may not shut off that water. \nRetail water customers have the same right as other customers to appear before a meeting addressing water rates.\nCity must use a rational basis for establishing rates and explain its formula for charging rates to customers\nHowever\, the City may charge different rates to City residents than it does to retail customers.\nCity must publish a map detailing the Designated Water Service Area and send the map to the state engineer.\n\nRep. Stratton’s bill\, HJR 3 Proposal to Amend Utah Constitution – Water Resources of Municipalities\, will be on the ballot this November. It amends the constitution to allow the creation of Designated Water Service Areas: \n\nFor residents in Salt Lake County and many other areas of the state (approximately 50)\, this amendment is critical.\nThe lack of permanent water threatens residents’ mortgages and insurance coverage.\nBillions of dollars in taxable value are threatened unless this amendment passes.\nIt protects the water supply to their homes.\n\n\nThe constitution change will be on the ballot in November and MUST pass for HB 31 to go into affect. It is important that we encourage residents to vote FOR on the constitution change to remedy the problem and create fairness and equality for all water users.\nThe water bills we supported in 2019:\n1) SB 17 Extraterritorial Jurisdiction Amendments\,\n2) HB 31 Water Supply and Surplus Water Amendments\n3) HJR 1 Proposal To Amend Utah Constitution – Municipal Water Resources \nArticles on the Water Issue: \n\nAn article in Deseret News discusses the Constitutional change and our meeting.\nhttps://www.deseret.com/utah/2020/2/3/21120220/utah-may-have-a-new-constitutional-amendment-on-cities-supply-of-water\nhttps://www.deseret.com/2019/2/22/20666466/controversy-continues-over-trio-of-utah-water-reform-measures\nhttps://www.deseret.com/2018/2/21/20640480/controversial-water-bills-taking-aim-at-salt-lake-city\n\n\n\n\nOther Information:\n1.  Its that time of year for ACCT to put together a Nominating Committee which is typically\nchosen at the November meeting to collect names of those members to be\nnominated/elected to the  ACCT Board (ACCT’s officers for the next year).\nThe Councils provide the results of their elections via ACCT Reps to the Nominating\nCommittee.  We are looking for members to be on the Nominating Committee.\nWe will be contacting the Chairs for recruiting for the committee..\n2.  Community Council elections are this year\, per bylaws\, ballots should be going out to\nyour residents.\n3.  In lieu of our “Meet the Candidate” night\, ACCT is sending out a newsletter in October\nwith bios and pics of the candidates in our areas for your information.\n4.  I have the 2020-2021 insurance policies for member councils.\n5.  Draft minutes for August 2020.    (A great overview of the meeting – thanks Barbara)
URL:https://whitecitycc.org/event/acct-meeting-agenda/
CATEGORIES:Association of Community Councils Together
END:VEVENT
END:VCALENDAR