BEGIN:VCALENDAR
VERSION:2.0
PRODID:-//White City Community Council - ECPv6.15.20//NONSGML v1.0//EN
CALSCALE:GREGORIAN
METHOD:PUBLISH
X-ORIGINAL-URL:https://whitecitycc.org
X-WR-CALDESC:Events for White City Community Council
REFRESH-INTERVAL;VALUE=DURATION:PT1H
X-Robots-Tag:noindex
X-PUBLISHED-TTL:PT1H
BEGIN:VTIMEZONE
TZID:America/Denver
BEGIN:DAYLIGHT
TZOFFSETFROM:-0700
TZOFFSETTO:-0600
TZNAME:MDT
DTSTART:20250309T090000
END:DAYLIGHT
BEGIN:STANDARD
TZOFFSETFROM:-0600
TZOFFSETTO:-0700
TZNAME:MST
DTSTART:20251102T080000
END:STANDARD
BEGIN:DAYLIGHT
TZOFFSETFROM:-0700
TZOFFSETTO:-0600
TZNAME:MDT
DTSTART:20260308T090000
END:DAYLIGHT
BEGIN:STANDARD
TZOFFSETFROM:-0600
TZOFFSETTO:-0700
TZNAME:MST
DTSTART:20261101T080000
END:STANDARD
BEGIN:DAYLIGHT
TZOFFSETFROM:-0700
TZOFFSETTO:-0600
TZNAME:MDT
DTSTART:20270314T090000
END:DAYLIGHT
BEGIN:STANDARD
TZOFFSETFROM:-0600
TZOFFSETTO:-0700
TZNAME:MST
DTSTART:20271107T080000
END:STANDARD
END:VTIMEZONE
BEGIN:VEVENT
DTSTART;TZID=America/Denver:20260711T160000
DTEND;TZID=America/Denver:20260711T200000
DTSTAMP:20260423T144801
CREATED:20260418T183914Z
LAST-MODIFIED:20260418T185301Z
UID:1496-1783785600-1783800000@whitecitycc.org
SUMMARY:White City Car Parade and Park!
DESCRIPTION:Join us for a fun-filled community event as White City celebrates America’s 250th Anniversary with a classic car parade and family-friendly evening at the park. \nOn Saturday\, July 11\, 2026\, the celebration begins with a car parade through White City at 5:00 PM\, followed by Car Parade & Park festivities from 6:00–8:00 PM at Big Bear Park\, 930 E Onyx Ln\, White City\, UT. \nBring the whole family and enjoy: \n\nClassic cars\nFood trucks\nFree snacks\, water\, and ice cream treats\nCommunity fun and entertainment\n\nWhether you’re coming to show off a classic car\, enjoy the parade\, or spend a summer evening with neighbors and friends\, this is an event you won’t want to miss. \nLocation: Big Bear Park\, 930 E Onyx Ln\, White City\, UTDate: July 11\, 2026Parade: 5:00 PM (Staging at 4:00 PM)Park Event: 6:00–8:00 PM \nHave a car you want to show? Register today to be part of the celebration.
URL:https://whitecitycc.org/event/white-city-car-parade-and-park/
LOCATION:Big Bear Park\, 930 E Onyx Ln\, White City\, UT\, 84094\, United States
ATTACH;FMTTYPE=image/jpeg:https://whitecitycc.org/wp-content/uploads/2026/04/Car-Show-Banner-2.jpg
END:VEVENT
END:VCALENDAR