BEGIN:VCALENDAR
VERSION:2.0
PRODID:-//White City Community Council - ECPv6.15.20//NONSGML v1.0//EN
CALSCALE:GREGORIAN
METHOD:PUBLISH
X-ORIGINAL-URL:https://whitecitycc.org
X-WR-CALDESC:Events for White City Community Council
REFRESH-INTERVAL;VALUE=DURATION:PT1H
X-Robots-Tag:noindex
X-PUBLISHED-TTL:PT1H
BEGIN:VTIMEZONE
TZID:America/Denver
BEGIN:DAYLIGHT
TZOFFSETFROM:-0700
TZOFFSETTO:-0600
TZNAME:MDT
DTSTART:20250309T090000
END:DAYLIGHT
BEGIN:STANDARD
TZOFFSETFROM:-0600
TZOFFSETTO:-0700
TZNAME:MST
DTSTART:20251102T080000
END:STANDARD
BEGIN:DAYLIGHT
TZOFFSETFROM:-0700
TZOFFSETTO:-0600
TZNAME:MDT
DTSTART:20260308T090000
END:DAYLIGHT
BEGIN:STANDARD
TZOFFSETFROM:-0600
TZOFFSETTO:-0700
TZNAME:MST
DTSTART:20261101T080000
END:STANDARD
BEGIN:DAYLIGHT
TZOFFSETFROM:-0700
TZOFFSETTO:-0600
TZNAME:MDT
DTSTART:20270314T090000
END:DAYLIGHT
BEGIN:STANDARD
TZOFFSETFROM:-0600
TZOFFSETTO:-0700
TZNAME:MST
DTSTART:20271107T080000
END:STANDARD
END:VTIMEZONE
BEGIN:VEVENT
DTSTART;TZID=America/Denver:20260107T190000
DTEND;TZID=America/Denver:20260107T203000
DTSTAMP:20260423T144802
CREATED:20260107T022013Z
LAST-MODIFIED:20260107T190411Z
UID:1295-1767812400-1767817800@whitecitycc.org
SUMMARY:WCCC Monthly Meeting: January 2026
DESCRIPTION:Meeting at the Canyons Administration Building East (9361 S 300 E\, Sandy UT) in the White Pines room (see map below). \n\n\n\nMeeting Agenda\nDecember Meeting Minutes\n\n\n\n 
URL:https://whitecitycc.org/event/wccc-monthly-jan-2026/
LOCATION:Canyons Administration Building East\, 9361 S 300 E\, Sandy\, UT\, 84094\, United States
END:VEVENT
END:VCALENDAR