BEGIN:VCALENDAR
VERSION:2.0
PRODID:-//White City Community Council - ECPv6.15.20//NONSGML v1.0//EN
CALSCALE:GREGORIAN
METHOD:PUBLISH
X-WR-CALNAME:White City Community Council
X-ORIGINAL-URL:https://whitecitycc.org
X-WR-CALDESC:Events for White City Community Council
REFRESH-INTERVAL;VALUE=DURATION:PT1H
X-Robots-Tag:noindex
X-PUBLISHED-TTL:PT1H
BEGIN:VTIMEZONE
TZID:America/Denver
BEGIN:DAYLIGHT
TZOFFSETFROM:-0700
TZOFFSETTO:-0600
TZNAME:MDT
DTSTART:20230312T090000
END:DAYLIGHT
BEGIN:STANDARD
TZOFFSETFROM:-0600
TZOFFSETTO:-0700
TZNAME:MST
DTSTART:20231105T080000
END:STANDARD
BEGIN:DAYLIGHT
TZOFFSETFROM:-0700
TZOFFSETTO:-0600
TZNAME:MDT
DTSTART:20240310T090000
END:DAYLIGHT
BEGIN:STANDARD
TZOFFSETFROM:-0600
TZOFFSETTO:-0700
TZNAME:MST
DTSTART:20241103T080000
END:STANDARD
BEGIN:DAYLIGHT
TZOFFSETFROM:-0700
TZOFFSETTO:-0600
TZNAME:MDT
DTSTART:20250309T090000
END:DAYLIGHT
BEGIN:STANDARD
TZOFFSETFROM:-0600
TZOFFSETTO:-0700
TZNAME:MST
DTSTART:20251102T080000
END:STANDARD
END:VTIMEZONE
BEGIN:VEVENT
DTSTART;TZID=America/Denver:20240824T140000
DTEND;TZID=America/Denver:20240824T220000
DTSTAMP:20260424T152629
CREATED:20240304T091414Z
LAST-MODIFIED:20240304T091514Z
UID:1005-1724508000-1724536800@whitecitycc.org
SUMMARY:Southeast Township Days 2024
DESCRIPTION:it's a party!
URL:https://whitecitycc.org/event/southeast-township-days-2024/
LOCATION:Big Bear Park\, 930 E Onyx Ln\, White City\, UT\, 84094\, United States
CATEGORIES:White City Hosted Events
END:VEVENT
END:VCALENDAR